BEGIN:VCALENDAR
VERSION:2.0
PRODID:-//HoChunk Renaissance - ECPv6.15.20//NONSGML v1.0//EN
CALSCALE:GREGORIAN
METHOD:PUBLISH
X-WR-CALNAME:HoChunk Renaissance
X-ORIGINAL-URL:https://hochunklanguage.com
X-WR-CALDESC:Events for HoChunk Renaissance
REFRESH-INTERVAL;VALUE=DURATION:PT1H
X-Robots-Tag:noindex
X-PUBLISHED-TTL:PT1H
BEGIN:VTIMEZONE
TZID:America/Chicago
BEGIN:DAYLIGHT
TZOFFSETFROM:-0600
TZOFFSETTO:-0500
TZNAME:CDT
DTSTART:20200308T080000
END:DAYLIGHT
BEGIN:STANDARD
TZOFFSETFROM:-0500
TZOFFSETTO:-0600
TZNAME:CST
DTSTART:20201101T070000
END:STANDARD
BEGIN:DAYLIGHT
TZOFFSETFROM:-0600
TZOFFSETTO:-0500
TZNAME:CDT
DTSTART:20210314T080000
END:DAYLIGHT
BEGIN:STANDARD
TZOFFSETFROM:-0500
TZOFFSETTO:-0600
TZNAME:CST
DTSTART:20211107T070000
END:STANDARD
BEGIN:DAYLIGHT
TZOFFSETFROM:-0600
TZOFFSETTO:-0500
TZNAME:CDT
DTSTART:20220313T080000
END:DAYLIGHT
BEGIN:STANDARD
TZOFFSETFROM:-0500
TZOFFSETTO:-0600
TZNAME:CST
DTSTART:20221106T070000
END:STANDARD
BEGIN:DAYLIGHT
TZOFFSETFROM:-0600
TZOFFSETTO:-0500
TZNAME:CDT
DTSTART:20230312T080000
END:DAYLIGHT
BEGIN:STANDARD
TZOFFSETFROM:-0500
TZOFFSETTO:-0600
TZNAME:CST
DTSTART:20231105T070000
END:STANDARD
BEGIN:DAYLIGHT
TZOFFSETFROM:-0600
TZOFFSETTO:-0500
TZNAME:CDT
DTSTART:20240310T080000
END:DAYLIGHT
BEGIN:STANDARD
TZOFFSETFROM:-0500
TZOFFSETTO:-0600
TZNAME:CST
DTSTART:20241103T070000
END:STANDARD
BEGIN:DAYLIGHT
TZOFFSETFROM:-0600
TZOFFSETTO:-0500
TZNAME:CDT
DTSTART:20250309T080000
END:DAYLIGHT
BEGIN:STANDARD
TZOFFSETFROM:-0500
TZOFFSETTO:-0600
TZNAME:CST
DTSTART:20251102T070000
END:STANDARD
BEGIN:DAYLIGHT
TZOFFSETFROM:-0600
TZOFFSETTO:-0500
TZNAME:CDT
DTSTART:20260308T080000
END:DAYLIGHT
BEGIN:STANDARD
TZOFFSETFROM:-0500
TZOFFSETTO:-0600
TZNAME:CST
DTSTART:20261101T070000
END:STANDARD
END:VTIMEZONE
BEGIN:VEVENT
DTSTART;TZID=America/Chicago:20250226T130000
DTEND;TZID=America/Chicago:20250226T150000
DTSTAMP:20260421T153620
CREATED:20250130T164156Z
LAST-MODIFIED:20250225T150239Z
UID:3624-1740574800-1740582000@hochunklanguage.com
SUMMARY:Frybread Contest
DESCRIPTION:
URL:https://hochunklanguage.com/event/frybread-contest/
END:VEVENT
BEGIN:VEVENT
DTSTART;TZID=America/Chicago:20241211T170000
DTEND;TZID=America/Chicago:20241211T193000
DTSTAMP:20260421T153620
CREATED:20241203T213218Z
LAST-MODIFIED:20241203T213231Z
UID:3612-1733936400-1733945400@hochunklanguage.com
SUMMARY:HoChunk Christmas Bingo
DESCRIPTION:
URL:https://hochunklanguage.com/event/hochunk-christmas-bingo/
END:VEVENT
BEGIN:VEVENT
DTSTART;TZID=America/Chicago:20240927T170000
DTEND;TZID=America/Chicago:20240927T223000
DTSTAMP:20260421T153620
CREATED:20240916T163207Z
LAST-MODIFIED:20240925T163444Z
UID:3395-1727456400-1727476200@hochunklanguage.com
SUMMARY:2024 Harvest Celebration & Green Corn Dance
DESCRIPTION:t
URL:https://hochunklanguage.com/event/harvest-celebration-2/
END:VEVENT
BEGIN:VEVENT
DTSTART;TZID=America/Chicago:20230909T090000
DTEND;TZID=America/Chicago:20230909T170000
DTSTAMP:20260421T153620
CREATED:20230726T200831Z
LAST-MODIFIED:20230809T195855Z
UID:3253-1694250000-1694278800@hochunklanguage.com
SUMMARY:HoChunk Language Baseball Tournament
DESCRIPTION:Click Here To Sign Your Team Up!\nWhen you sign up\, you’ll receive an informational packet and study guide to your provided email. Any questions or concerns please reach out to Emily Smith at 402-878-4135
URL:https://hochunklanguage.com/event/language-baseball-2023/
LOCATION:Land of Wellness\, Winnebago\, NE\, 68071\, United States
ATTACH;FMTTYPE=image/jpeg:https://hochunklanguage.com/wp-content/uploads/2023/07/std-baseball-1-scaled.webp
END:VEVENT
BEGIN:VEVENT
DTSTART;VALUE=DATE:20230811
DTEND;VALUE=DATE:20230812
DTSTAMP:20260421T153620
CREATED:20230726T195722Z
LAST-MODIFIED:20230815T181333Z
UID:3250-1691712000-1691798399@hochunklanguage.com
SUMMARY:Waboxiri Cook-Off Contest
DESCRIPTION:
URL:https://hochunklanguage.com/event/waboxiri-cook-off-contest/
ATTACH;FMTTYPE=image/jpeg:https://hochunklanguage.com/wp-content/uploads/2023/07/waboxiri-banner-jpg.webp
END:VEVENT
BEGIN:VEVENT
DTSTART;TZID=America/Chicago:20230628T120000
DTEND;TZID=America/Chicago:20230628T130000
DTSTAMP:20260421T153620
CREATED:20230620T211118Z
LAST-MODIFIED:20230620T211433Z
UID:3227-1687953600-1687957200@hochunklanguage.com
SUMMARY:Lunch and Learn
DESCRIPTION:
URL:https://hochunklanguage.com/event/lunch-and-learn/
LOCATION:Little Priest Tribal College\, 601 East College Drive\, Winnebago\, NE\, 68071\, United States
END:VEVENT
BEGIN:VEVENT
DTSTART;TZID=America/Chicago:20221031T033000
DTEND;TZID=America/Chicago:20221031T110000
DTSTAMP:20260421T153620
CREATED:20221025T194453Z
LAST-MODIFIED:20221027T212833Z
UID:3084-1667187000-1667214000@hochunklanguage.com
SUMMARY:Wicąwą zī homące ra- Pumpkin Carving Contest
DESCRIPTION:
URL:https://hochunklanguage.com/event/wicawa-zi-homace-ra-pumpkin-carving-contest/
LOCATION:HoChunk Renaissance\, 907 North Mission Road\, Winnebago\, NE\, 68071\, United States
ATTACH;FMTTYPE=image/jpeg:https://hochunklanguage.com/wp-content/uploads/2022/10/2022_Pumpkin_Carving-01.jpg
END:VEVENT
BEGIN:VEVENT
DTSTART;TZID=America/Chicago:20220924T040000
DTEND;TZID=America/Chicago:20220924T120000
DTSTAMP:20260421T153620
CREATED:20220901T220845Z
LAST-MODIFIED:20220901T220845Z
UID:3021-1663992000-1664020800@hochunklanguage.com
SUMMARY:HoChunk Language Baseball Tournament
DESCRIPTION:
URL:https://hochunklanguage.com/event/hochunk-language-baseball-tournament/
LOCATION:Land of Wellness\, Winnebago\, NE\, 68071\, United States
END:VEVENT
BEGIN:VEVENT
DTSTART;TZID=America/Chicago:20220907T110000
DTEND;TZID=America/Chicago:20220907T160000
DTSTAMP:20260421T153620
CREATED:20220901T220058Z
LAST-MODIFIED:20220901T220058Z
UID:3017-1662548400-1662566400@hochunklanguage.com
SUMMARY:Harvest Celebration
DESCRIPTION:
URL:https://hochunklanguage.com/event/harvest-celebration/
LOCATION:Veteran’s Memorial Park\, Winnebago\, NE\, 68071\, United States
END:VEVENT
BEGIN:VEVENT
DTSTART;VALUE=DATE:20220410
DTEND;VALUE=DATE:20220416
DTSTAMP:20260421T153620
CREATED:20220408T000536Z
LAST-MODIFIED:20220419T201110Z
UID:2931-1649617200-1650049199@hochunklanguage.com
SUMMARY:Annual Golden Egg Hunt
DESCRIPTION:
URL:https://hochunklanguage.com/event/annual-golden-egg-hunt/
ATTACH;FMTTYPE=image/jpeg:https://hochunklanguage.com/wp-content/uploads/2022/04/egghunt_2022.jpg
END:VEVENT
BEGIN:VEVENT
DTSTART;VALUE=DATE:20210920
DTEND;VALUE=DATE:20210922
DTSTAMP:20260421T153620
CREATED:20210817T015824Z
LAST-MODIFIED:20210916T011512Z
UID:1085-1632164400-1632250799@hochunklanguage.com
SUMMARY:Harvest Celebration and Green Corn Dance!
DESCRIPTION:
URL:https://hochunklanguage.com/event/harvest-celebration-and-green-corn-dance/
ATTACH;FMTTYPE=image/jpeg:https://hochunklanguage.com/wp-content/uploads/2021/08/updated_harvestposter.jpg
END:VEVENT
END:VCALENDAR