BEGIN:VCALENDAR
VERSION:2.0
PRODID:-//HoChunk Renaissance - ECPv6.15.20//NONSGML v1.0//EN
CALSCALE:GREGORIAN
METHOD:PUBLISH
X-WR-CALNAME:HoChunk Renaissance
X-ORIGINAL-URL:https://hochunklanguage.com
X-WR-CALDESC:Events for HoChunk Renaissance
REFRESH-INTERVAL;VALUE=DURATION:PT1H
X-Robots-Tag:noindex
X-PUBLISHED-TTL:PT1H
BEGIN:VTIMEZONE
TZID:America/Chicago
BEGIN:DAYLIGHT
TZOFFSETFROM:-0600
TZOFFSETTO:-0500
TZNAME:CDT
DTSTART:20250309T080000
END:DAYLIGHT
BEGIN:STANDARD
TZOFFSETFROM:-0500
TZOFFSETTO:-0600
TZNAME:CST
DTSTART:20251102T070000
END:STANDARD
BEGIN:DAYLIGHT
TZOFFSETFROM:-0600
TZOFFSETTO:-0500
TZNAME:CDT
DTSTART:20260308T080000
END:DAYLIGHT
BEGIN:STANDARD
TZOFFSETFROM:-0500
TZOFFSETTO:-0600
TZNAME:CST
DTSTART:20261101T070000
END:STANDARD
BEGIN:DAYLIGHT
TZOFFSETFROM:-0600
TZOFFSETTO:-0500
TZNAME:CDT
DTSTART:20270314T080000
END:DAYLIGHT
BEGIN:STANDARD
TZOFFSETFROM:-0500
TZOFFSETTO:-0600
TZNAME:CST
DTSTART:20271107T070000
END:STANDARD
END:VTIMEZONE
BEGIN:VEVENT
DTSTART;TZID=America/Chicago:20260120T170000
DTEND;TZID=America/Chicago:20260312T200000
DTSTAMP:20260421T103410
CREATED:20260126T172727Z
LAST-MODIFIED:20260319T162343Z
UID:4086-1768928400-1773345600@hochunklanguage.com
SUMMARY:Hikišere Night (Craft Night)
DESCRIPTION:Bring any project you’re working on — all are welcome. Ho-Chunk Renaissance will have Hōcąk language videos playing throughout the night to help incorporate the language while you craft. ✂️🧶
URL:https://hochunklanguage.com/event/hikisere-night-craft-night/
LOCATION:Hoit’e ra hoci\, 509 Elm Street\, Winnebago\, NE\, 68071\, United States
END:VEVENT
BEGIN:VEVENT
DTSTART;VALUE=DATE:20260327
DTEND;VALUE=DATE:20260404
DTSTAMP:20260421T103410
CREATED:20260319T162206Z
LAST-MODIFIED:20260319T162206Z
UID:4133-1774569600-1775260799@hochunklanguage.com
SUMMARY:Wanįgicge Mą̄s zī honį
DESCRIPTION:
URL:https://hochunklanguage.com/event/wanigicge-mas-zi-honi/
LOCATION:NE
END:VEVENT
BEGIN:VEVENT
DTSTART;TZID=America/Chicago:20260331T120000
DTEND;TZID=America/Chicago:20260331T130000
DTSTAMP:20260421T103410
CREATED:20260319T162259Z
LAST-MODIFIED:20260319T180351Z
UID:4135-1774958400-1774962000@hochunklanguage.com
SUMMARY:Lunch & Learn
DESCRIPTION:
URL:https://hochunklanguage.com/event/lunch-learn/
LOCATION:LPTC Audtiorium\, 319 Little Priest Dr\, Winnebago\, NE\, 68071\, United States
END:VEVENT
BEGIN:VEVENT
DTSTART;TZID=America/Chicago:20260402T120000
DTEND;TZID=America/Chicago:20260430T130000
DTSTAMP:20260421T103410
CREATED:20260319T162031Z
LAST-MODIFIED:20260319T182244Z
UID:4128-1775131200-1777554000@hochunklanguage.com
SUMMARY:Hōcąk Language Workshop
DESCRIPTION:
URL:https://hochunklanguage.com/event/hocak-language-workshop/
LOCATION:Hoit’e ra hoci\, 509 Elm Street\, Winnebago\, NE\, 68071\, United States
END:VEVENT
END:VCALENDAR