BEGIN:VCALENDAR
VERSION:2.0
PRODID:-//HoChunk Renaissance - ECPv6.15.20//NONSGML v1.0//EN
CALSCALE:GREGORIAN
METHOD:PUBLISH
X-WR-CALNAME:HoChunk Renaissance
X-ORIGINAL-URL:https://hochunklanguage.com
X-WR-CALDESC:Events for HoChunk Renaissance
REFRESH-INTERVAL;VALUE=DURATION:PT1H
X-Robots-Tag:noindex
X-PUBLISHED-TTL:PT1H
BEGIN:VTIMEZONE
TZID:America/Chicago
BEGIN:DAYLIGHT
TZOFFSETFROM:-0600
TZOFFSETTO:-0500
TZNAME:CDT
DTSTART:20200308T080000
END:DAYLIGHT
BEGIN:STANDARD
TZOFFSETFROM:-0500
TZOFFSETTO:-0600
TZNAME:CST
DTSTART:20201101T070000
END:STANDARD
BEGIN:DAYLIGHT
TZOFFSETFROM:-0600
TZOFFSETTO:-0500
TZNAME:CDT
DTSTART:20210314T080000
END:DAYLIGHT
BEGIN:STANDARD
TZOFFSETFROM:-0500
TZOFFSETTO:-0600
TZNAME:CST
DTSTART:20211107T070000
END:STANDARD
BEGIN:DAYLIGHT
TZOFFSETFROM:-0600
TZOFFSETTO:-0500
TZNAME:CDT
DTSTART:20220313T080000
END:DAYLIGHT
BEGIN:STANDARD
TZOFFSETFROM:-0500
TZOFFSETTO:-0600
TZNAME:CST
DTSTART:20221106T070000
END:STANDARD
BEGIN:DAYLIGHT
TZOFFSETFROM:-0600
TZOFFSETTO:-0500
TZNAME:CDT
DTSTART:20230312T080000
END:DAYLIGHT
BEGIN:STANDARD
TZOFFSETFROM:-0500
TZOFFSETTO:-0600
TZNAME:CST
DTSTART:20231105T070000
END:STANDARD
BEGIN:DAYLIGHT
TZOFFSETFROM:-0600
TZOFFSETTO:-0500
TZNAME:CDT
DTSTART:20240310T080000
END:DAYLIGHT
BEGIN:STANDARD
TZOFFSETFROM:-0500
TZOFFSETTO:-0600
TZNAME:CST
DTSTART:20241103T070000
END:STANDARD
BEGIN:DAYLIGHT
TZOFFSETFROM:-0600
TZOFFSETTO:-0500
TZNAME:CDT
DTSTART:20250309T080000
END:DAYLIGHT
BEGIN:STANDARD
TZOFFSETFROM:-0500
TZOFFSETTO:-0600
TZNAME:CST
DTSTART:20251102T070000
END:STANDARD
BEGIN:DAYLIGHT
TZOFFSETFROM:-0600
TZOFFSETTO:-0500
TZNAME:CDT
DTSTART:20260308T080000
END:DAYLIGHT
BEGIN:STANDARD
TZOFFSETFROM:-0500
TZOFFSETTO:-0600
TZNAME:CST
DTSTART:20261101T070000
END:STANDARD
END:VTIMEZONE
BEGIN:VEVENT
DTSTART;TZID=America/Chicago:20251202T120000
DTEND;TZID=America/Chicago:20251202T130000
DTSTAMP:20260421T132934
CREATED:20251106T152148Z
LAST-MODIFIED:20251106T152148Z
UID:3961-1764676800-1764680400@hochunklanguage.com
SUMMARY:Community Lunch & Learn
DESCRIPTION:Join us for a Hōcąk Lunch and Learn focused on the power and purpose of kinship in hōcąk life. During this session we will explore how kinship connects families\, clans\, and community\, and how these relationships guide identity\, roles\, and responsibility. Participants will hear cultural knowledge\, learn terms\, and gain a deeper understanding of kinship patterns that still shape hōcąk ways of relating today. This Lunch and Learn is open to all who want to learn\, grow\, and strengthen their knowledge of hōcąk culture in an engaging and supportive setting.
URL:https://hochunklanguage.com/event/community-lunch-learn/
LOCATION:LPTC Audtiorium\, 319 Little Priest Dr\, Winnebago\, NE\, 68071\, United States
END:VEVENT
BEGIN:VEVENT
DTSTART;TZID=America/Chicago:20251120T150000
DTEND;TZID=America/Chicago:20251121T170000
DTSTAMP:20260421T132934
CREATED:20251106T152634Z
LAST-MODIFIED:20251106T152802Z
UID:3964-1763650800-1763744400@hochunklanguage.com
SUMMARY:Hōcąk Hoit'e ra Cooking Class
DESCRIPTION:  \nJoin us for a beginner-friendly Hōcąk cooking class where culture\, language\, and food come together. Participants will learn simple recipes step-by-step and practice Hōcąk language throughout the process. This class is a fun and welcoming way to build confidence in the kitchen while strengthening Hōcąk language skills. \nSign up by clicking the link below! * Participants are required to attend the whole course * \nhttps://signup.com/go/PaniMqU
URL:https://hochunklanguage.com/event/hocak-hoite-ra-cooking-class/
LOCATION:HoChunk Center\, 337 BIA Rd 3\, Winnebago\, 68071\, United States
END:VEVENT
BEGIN:VEVENT
DTSTART;TZID=America/Chicago:20251119T110000
DTEND;TZID=America/Chicago:20251119T130000
DTSTAMP:20260421T132934
CREATED:20251106T151043Z
LAST-MODIFIED:20251106T151043Z
UID:3953-1763550000-1763557200@hochunklanguage.com
SUMMARY:Wild Game Contest
DESCRIPTION:One-day cooking showdown featuring dishes made with wild game! To enter\, each participant must include wild game as a key ingredient. Bring your best recipe\, show off your skills\, and see who takes home top honors! Cooks can bring their dishes to HoChunk Renaissance as early as 10am. \nSign up by clicking the link below! \nhttps://signup.com/go/AxGsaUg
URL:https://hochunklanguage.com/event/wild-game-contest/
LOCATION:HoChunk Renaissance\, 907 North Mission Road\, Winnebago\, NE\, 68071\, United States
END:VEVENT
BEGIN:VEVENT
DTSTART;TZID=America/Chicago:20251111T170000
DTEND;TZID=America/Chicago:20251113T210000
DTSTAMP:20260421T132934
CREATED:20251106T151647Z
LAST-MODIFIED:20251106T192706Z
UID:3959-1762880400-1763067600@hochunklanguage.com
SUMMARY:Paxge Wōrušik Class
DESCRIPTION:Join us for a Paxge Earring Class guided by an experienced instructor! This evening class will take place Nov. 12–13 and Nov. 19 from 5–9 PM at the Ho-Chunk Renaissance classroom. All levels are welcome — come create\, learn\, and take home your beautiful handmade Paxge earrings! ALL PARTICIPANTS must attend the language portion on the 12th from 4-5! \nSign up by clicking the link below! *Participants can sign up for multiple days* \nhttps://signup.com/go/hHvcGJZ \nThere will be an additional class on November 19th\, 5pm – 9pm at the HoChunk Renaissance classroom.
URL:https://hochunklanguage.com/event/paxge-worusik-class/
LOCATION:HoChunk Renaissance\, 907 North Mission Road\, Winnebago\, NE\, 68071\, United States
END:VEVENT
BEGIN:VEVENT
DTSTART;VALUE=DATE:20251103
DTEND;VALUE=DATE:20251223
DTSTAMP:20260421T132934
CREATED:20251016T133651Z
LAST-MODIFIED:20251104T140929Z
UID:3934-1762128000-1766447999@hochunklanguage.com
SUMMARY:Hoit'e cōnį ňa 2025
DESCRIPTION:This years Hoit’e cōnį ňa class will take place at the new HoChunk Renaissance Learning Center and will begin on November 3rd. We are partnering with Safe Sitters to provide free child care for our participants. For any questions or concerns please email language@winnebagotribe.com or call us 402-878-4135.
URL:https://hochunklanguage.com/event/hoite-coni-na-2025/
LOCATION:Language Learning Center\, 509 Elm Street\, Winnebago\, NE\, 68071\, United States
END:VEVENT
BEGIN:VEVENT
DTSTART;VALUE=DATE:20251022
DTEND;VALUE=DATE:20251025
DTSTAMP:20260421T132934
CREATED:20251016T134740Z
LAST-MODIFIED:20251016T134740Z
UID:3941-1761091200-1761350399@hochunklanguage.com
SUMMARY:Hōcąk Escape Room 2025
DESCRIPTION:Join us for our first Hōcąk Escape Room! Spots are limited and you must sign up to  reserve a time and day. Groups must have a minimum of 2 and a maximum of 5. This event will take place at HoChunk Renaissance building.
URL:https://hochunklanguage.com/event/hocak-escape-room-2025/
LOCATION:HoChunk Renaissance\, 907 North Mission Road\, Winnebago\, NE\, 68071\, United States
END:VEVENT
BEGIN:VEVENT
DTSTART;TZID=America/Chicago:20251021T180000
DTEND;TZID=America/Chicago:20251021T200000
DTSTAMP:20260421T132934
CREATED:20251016T135206Z
LAST-MODIFIED:20251016T135206Z
UID:3944-1761069600-1761076800@hochunklanguage.com
SUMMARY:Hōcąk Bingo Night
DESCRIPTION:Join us for a night of Hōcąk Bingo! This event will take place at the Whirling Thunder Gymnasium. Doors will open at 6pm and games are to follow.
URL:https://hochunklanguage.com/event/hocak-bingo-night-2/
LOCATION:Whirling Thunder\, 205 Bluff St\, Winnebago\, NE\, 68071\, United States
END:VEVENT
BEGIN:VEVENT
DTSTART;TZID=America/Chicago:20250919T180000
DTEND;TZID=America/Chicago:20250919T220000
DTSTAMP:20260421T132934
CREATED:20250902T160147Z
LAST-MODIFIED:20250902T160147Z
UID:3889-1758304800-1758319200@hochunklanguage.com
SUMMARY:Harvest Celebration & Green Corn Dance
DESCRIPTION:Harvest Celebration & Green Corn Dance
URL:https://hochunklanguage.com/event/harvest-celebration-green-corn-dance/
LOCATION:NE
END:VEVENT
BEGIN:VEVENT
DTSTART;VALUE=DATE:20250912
DTEND;VALUE=DATE:20250913
DTSTAMP:20260421T132934
CREATED:20250820T202951Z
LAST-MODIFIED:20250902T155726Z
UID:3864-1757635200-1757721599@hochunklanguage.com
SUMMARY:Hōcąk Language Baseball Tournament
DESCRIPTION:Hōcąk Baseball Guide 2025
URL:https://hochunklanguage.com/event/hocak-language-baseball-tournament/
LOCATION:NE
END:VEVENT
BEGIN:VEVENT
DTSTART;TZID=America/Chicago:20250519T080000
DTEND;TZID=America/Chicago:20250527T170000
DTSTAMP:20260421T132934
CREATED:20250505T201459Z
LAST-MODIFIED:20250515T135710Z
UID:3815-1747641600-1748365200@hochunklanguage.com
SUMMARY:Scavenger Hunt
DESCRIPTION:More information coming soon!
URL:https://hochunklanguage.com/event/scavenger-hunt/
LOCATION:NE
END:VEVENT
BEGIN:VEVENT
DTSTART;TZID=America/Chicago:20250310T080000
DTEND;TZID=America/Chicago:20250430T170000
DTSTAMP:20260421T132934
CREATED:20250303T211510Z
LAST-MODIFIED:20250303T211510Z
UID:3715-1741593600-1746032400@hochunklanguage.com
SUMMARY:Hoit’e Cōnį ňa Class
DESCRIPTION:
URL:https://hochunklanguage.com/event/hoite-coni-na-class/
LOCATION:NE
END:VEVENT
BEGIN:VEVENT
DTSTART;TZID=America/Chicago:20250226T173000
DTEND;TZID=America/Chicago:20250226T193000
DTSTAMP:20260421T132934
CREATED:20250130T165220Z
LAST-MODIFIED:20250225T145954Z
UID:3628-1740591000-1740598200@hochunklanguage.com
SUMMARY:Hōcąk Bingo Night
DESCRIPTION:
URL:https://hochunklanguage.com/event/hocak-bingo-night/
LOCATION:NE
END:VEVENT
BEGIN:VEVENT
DTSTART;TZID=America/Chicago:20250226T130000
DTEND;TZID=America/Chicago:20250226T150000
DTSTAMP:20260421T132934
CREATED:20250130T164156Z
LAST-MODIFIED:20250225T150239Z
UID:3624-1740574800-1740582000@hochunklanguage.com
SUMMARY:Frybread Contest
DESCRIPTION:
URL:https://hochunklanguage.com/event/frybread-contest/
LOCATION:NE
END:VEVENT
BEGIN:VEVENT
DTSTART;TZID=America/Chicago:20241211T170000
DTEND;TZID=America/Chicago:20241211T193000
DTSTAMP:20260421T132934
CREATED:20241203T213218Z
LAST-MODIFIED:20241203T213231Z
UID:3612-1733936400-1733945400@hochunklanguage.com
SUMMARY:HoChunk Christmas Bingo
DESCRIPTION:
URL:https://hochunklanguage.com/event/hochunk-christmas-bingo/
LOCATION:NE
END:VEVENT
BEGIN:VEVENT
DTSTART;TZID=America/Chicago:20240927T170000
DTEND;TZID=America/Chicago:20240927T223000
DTSTAMP:20260421T132934
CREATED:20240916T163207Z
LAST-MODIFIED:20240925T163444Z
UID:3395-1727456400-1727476200@hochunklanguage.com
SUMMARY:2024 Harvest Celebration & Green Corn Dance
DESCRIPTION:t
URL:https://hochunklanguage.com/event/harvest-celebration-2/
LOCATION:NE
END:VEVENT
BEGIN:VEVENT
DTSTART;TZID=America/Chicago:20230909T090000
DTEND;TZID=America/Chicago:20230909T170000
DTSTAMP:20260421T132934
CREATED:20230726T200831Z
LAST-MODIFIED:20230809T195855Z
UID:3253-1694250000-1694278800@hochunklanguage.com
SUMMARY:HoChunk Language Baseball Tournament
DESCRIPTION:Click Here To Sign Your Team Up!\nWhen you sign up\, you’ll receive an informational packet and study guide to your provided email. Any questions or concerns please reach out to Emily Smith at 402-878-4135
URL:https://hochunklanguage.com/event/language-baseball-2023/
LOCATION:Land of Wellness\, Winnebago\, NE\, 68071\, United States
ATTACH;FMTTYPE=image/jpeg:https://hochunklanguage.com/wp-content/uploads/2023/07/std-baseball-1-scaled.webp
END:VEVENT
BEGIN:VEVENT
DTSTART;VALUE=DATE:20230811
DTEND;VALUE=DATE:20230812
DTSTAMP:20260421T132934
CREATED:20230726T195722Z
LAST-MODIFIED:20230815T181333Z
UID:3250-1691712000-1691798399@hochunklanguage.com
SUMMARY:Waboxiri Cook-Off Contest
DESCRIPTION:
URL:https://hochunklanguage.com/event/waboxiri-cook-off-contest/
LOCATION:NE
ATTACH;FMTTYPE=image/jpeg:https://hochunklanguage.com/wp-content/uploads/2023/07/waboxiri-banner-jpg.webp
END:VEVENT
BEGIN:VEVENT
DTSTART;TZID=America/Chicago:20230628T120000
DTEND;TZID=America/Chicago:20230628T130000
DTSTAMP:20260421T132934
CREATED:20230620T211118Z
LAST-MODIFIED:20230620T211433Z
UID:3227-1687953600-1687957200@hochunklanguage.com
SUMMARY:Lunch and Learn
DESCRIPTION:
URL:https://hochunklanguage.com/event/lunch-and-learn/
LOCATION:Little Priest Tribal College\, 601 East College Drive\, Winnebago\, NE\, 68071\, United States
END:VEVENT
BEGIN:VEVENT
DTSTART;TZID=America/Chicago:20221031T033000
DTEND;TZID=America/Chicago:20221031T110000
DTSTAMP:20260421T132934
CREATED:20221025T194453Z
LAST-MODIFIED:20221027T212833Z
UID:3084-1667187000-1667214000@hochunklanguage.com
SUMMARY:Wicąwą zī homące ra- Pumpkin Carving Contest
DESCRIPTION:
URL:https://hochunklanguage.com/event/wicawa-zi-homace-ra-pumpkin-carving-contest/
LOCATION:HoChunk Renaissance\, 907 North Mission Road\, Winnebago\, NE\, 68071\, United States
ATTACH;FMTTYPE=image/jpeg:https://hochunklanguage.com/wp-content/uploads/2022/10/2022_Pumpkin_Carving-01.jpg
END:VEVENT
BEGIN:VEVENT
DTSTART;TZID=America/Chicago:20220924T040000
DTEND;TZID=America/Chicago:20220924T120000
DTSTAMP:20260421T132934
CREATED:20220901T220845Z
LAST-MODIFIED:20220901T220845Z
UID:3021-1663992000-1664020800@hochunklanguage.com
SUMMARY:HoChunk Language Baseball Tournament
DESCRIPTION:
URL:https://hochunklanguage.com/event/hochunk-language-baseball-tournament/
LOCATION:Land of Wellness\, Winnebago\, NE\, 68071\, United States
END:VEVENT
BEGIN:VEVENT
DTSTART;TZID=America/Chicago:20220907T110000
DTEND;TZID=America/Chicago:20220907T160000
DTSTAMP:20260421T132934
CREATED:20220901T220058Z
LAST-MODIFIED:20220901T220058Z
UID:3017-1662548400-1662566400@hochunklanguage.com
SUMMARY:Harvest Celebration
DESCRIPTION:
URL:https://hochunklanguage.com/event/harvest-celebration/
LOCATION:Veteran’s Memorial Park\, Winnebago\, NE\, 68071\, United States
END:VEVENT
BEGIN:VEVENT
DTSTART;VALUE=DATE:20220410
DTEND;VALUE=DATE:20220416
DTSTAMP:20260421T132934
CREATED:20220408T000536Z
LAST-MODIFIED:20220419T201110Z
UID:2931-1649617200-1650049199@hochunklanguage.com
SUMMARY:Annual Golden Egg Hunt
DESCRIPTION:
URL:https://hochunklanguage.com/event/annual-golden-egg-hunt/
LOCATION:NE
ATTACH;FMTTYPE=image/jpeg:https://hochunklanguage.com/wp-content/uploads/2022/04/egghunt_2022.jpg
END:VEVENT
BEGIN:VEVENT
DTSTART;VALUE=DATE:20210920
DTEND;VALUE=DATE:20210922
DTSTAMP:20260421T132934
CREATED:20210817T015824Z
LAST-MODIFIED:20210916T011512Z
UID:1085-1632164400-1632250799@hochunklanguage.com
SUMMARY:Harvest Celebration and Green Corn Dance!
DESCRIPTION:
URL:https://hochunklanguage.com/event/harvest-celebration-and-green-corn-dance/
LOCATION:NE
ATTACH;FMTTYPE=image/jpeg:https://hochunklanguage.com/wp-content/uploads/2021/08/updated_harvestposter.jpg
END:VEVENT
END:VCALENDAR